BEGIN:VCALENDAR
VERSION:2.0
PRODID:-//LES Ecology Center - ECPv6.15.20//NONSGML v1.0//EN
CALSCALE:GREGORIAN
METHOD:PUBLISH
X-WR-CALNAME:LES Ecology Center
X-ORIGINAL-URL:https://www.lesecologycenter.org
X-WR-CALDESC:Events for LES Ecology Center
REFRESH-INTERVAL;VALUE=DURATION:PT1H
X-Robots-Tag:noindex
X-PUBLISHED-TTL:PT1H
BEGIN:VTIMEZONE
TZID:America/New_York
BEGIN:DAYLIGHT
TZOFFSETFROM:-0500
TZOFFSETTO:-0400
TZNAME:EDT
DTSTART:20250309T070000
END:DAYLIGHT
BEGIN:STANDARD
TZOFFSETFROM:-0400
TZOFFSETTO:-0500
TZNAME:EST
DTSTART:20251102T060000
END:STANDARD
BEGIN:DAYLIGHT
TZOFFSETFROM:-0500
TZOFFSETTO:-0400
TZNAME:EDT
DTSTART:20260308T070000
END:DAYLIGHT
BEGIN:STANDARD
TZOFFSETFROM:-0400
TZOFFSETTO:-0500
TZNAME:EST
DTSTART:20261101T060000
END:STANDARD
BEGIN:DAYLIGHT
TZOFFSETFROM:-0500
TZOFFSETTO:-0400
TZNAME:EDT
DTSTART:20270314T070000
END:DAYLIGHT
BEGIN:STANDARD
TZOFFSETFROM:-0400
TZOFFSETTO:-0500
TZNAME:EST
DTSTART:20271107T060000
END:STANDARD
END:VTIMEZONE
BEGIN:VEVENT
DTSTART;TZID=America/New_York:20260424T100000
DTEND;TZID=America/New_York:20260424T120000
DTSTAMP:20260424T113244
CREATED:20260324T153340Z
LAST-MODIFIED:20260406T204725Z
UID:52478-1777024800-1777032000@www.lesecologycenter.org
SUMMARY:Arbor Day Volunteer Street Tree Care w/ CM Epstein
DESCRIPTION:Join the LES Ecology Center and Council Member Harvey Epstein’s office to celebrate the urban forest and connect with your community and the natural world. \nTrees help clean our air\, cool our streets\, mitigate flooding\, and so much more! In this Arbor Day event\, we will pamper our trusty street trees on their special day with litter removal\, weeding\, soil aeration\, and a special treat of NYC-made compost. \nAll materials provided. \nPlease wear clothes you don’t mind getting dirty and bring water.\n\nSign up \n 
URL:https://www.lesecologycenter.org/calendar/arbor-day-volunteer-street-tree-care-w-cm-epstein/
LOCATION:Clyde Romero Memorial Garden\, 213 East 7th Street\, New York\, 10009\, United States
CATEGORIES:Public Events & Community Recycling,Special Events,Stewardship
ATTACH;FMTTYPE=image/jpeg:https://www.lesecologycenter.org/wp-content/uploads/tribe_events//Arbor-Day-STC-Website-Image.jpg
GEO:40.7246359;-73.979732
X-APPLE-STRUCTURED-LOCATION;VALUE=URI;X-ADDRESS=Clyde Romero Memorial Garden 213 East 7th Street New York 10009 United States;X-APPLE-RADIUS=500;X-TITLE=213 East 7th Street:geo:-73.979732,40.7246359
END:VEVENT
END:VCALENDAR