BEGIN:VCALENDAR
VERSION:2.0
PRODID:-//LES Ecology Center - ECPv6.15.20//NONSGML v1.0//EN
CALSCALE:GREGORIAN
METHOD:PUBLISH
X-WR-CALNAME:LES Ecology Center
X-ORIGINAL-URL:https://www.lesecologycenter.org
X-WR-CALDESC:Events for LES Ecology Center
REFRESH-INTERVAL;VALUE=DURATION:PT1H
X-Robots-Tag:noindex
X-PUBLISHED-TTL:PT1H
BEGIN:VTIMEZONE
TZID:America/New_York
BEGIN:DAYLIGHT
TZOFFSETFROM:-0500
TZOFFSETTO:-0400
TZNAME:EDT
DTSTART:20250309T070000
END:DAYLIGHT
BEGIN:STANDARD
TZOFFSETFROM:-0400
TZOFFSETTO:-0500
TZNAME:EST
DTSTART:20251102T060000
END:STANDARD
BEGIN:DAYLIGHT
TZOFFSETFROM:-0500
TZOFFSETTO:-0400
TZNAME:EDT
DTSTART:20260308T070000
END:DAYLIGHT
BEGIN:STANDARD
TZOFFSETFROM:-0400
TZOFFSETTO:-0500
TZNAME:EST
DTSTART:20261101T060000
END:STANDARD
BEGIN:DAYLIGHT
TZOFFSETFROM:-0500
TZOFFSETTO:-0400
TZNAME:EDT
DTSTART:20270314T070000
END:DAYLIGHT
BEGIN:STANDARD
TZOFFSETFROM:-0400
TZOFFSETTO:-0500
TZNAME:EST
DTSTART:20271107T060000
END:STANDARD
END:VTIMEZONE
BEGIN:VEVENT
DTSTART;TZID=America/New_York:20260427T090000
DTEND;TZID=America/New_York:20260427T160000
DTSTAMP:20260423T205757
CREATED:20250929T135953Z
LAST-MODIFIED:20260421T182707Z
UID:10057296-1777280400-1777305600@www.lesecologycenter.org
SUMMARY:Grand and Clinton
DESCRIPTION:Bring your food scraps to the NYC Compost Project’s morning commuter drop-off location at Grand and Clinton Street. For more information\, please visit our composting page.
URL:https://www.lesecologycenter.org/calendar/grand-and-clinton-2-2/2026-04-27/
LOCATION:Grand & Clinton\, New York\, NY\, 10002\, United States
CATEGORIES:Compost Drop-Off,Grand & Clinton
ATTACH;FMTTYPE=image/jpeg:https://www.lesecologycenter.org/wp-content/uploads/tribe_events/mathews-palmer-park/Compost-Site-Featured-Image.jpg
GEO:40.715881;-73.986773
END:VEVENT
BEGIN:VEVENT
DTSTART;TZID=America/New_York:20260504T090000
DTEND;TZID=America/New_York:20260504T160000
DTSTAMP:20260423T205757
CREATED:20250929T135953Z
LAST-MODIFIED:20260421T182707Z
UID:10057297-1777885200-1777910400@www.lesecologycenter.org
SUMMARY:Grand and Clinton
DESCRIPTION:Bring your food scraps to the NYC Compost Project’s morning commuter drop-off location at Grand and Clinton Street. For more information\, please visit our composting page.
URL:https://www.lesecologycenter.org/calendar/grand-and-clinton-2-2/2026-05-04/
LOCATION:Grand & Clinton\, New York\, NY\, 10002\, United States
CATEGORIES:Compost Drop-Off,Grand & Clinton
ATTACH;FMTTYPE=image/jpeg:https://www.lesecologycenter.org/wp-content/uploads/tribe_events/mathews-palmer-park/Compost-Site-Featured-Image.jpg
GEO:40.715881;-73.986773
END:VEVENT
BEGIN:VEVENT
DTSTART;TZID=America/New_York:20260511T090000
DTEND;TZID=America/New_York:20260511T160000
DTSTAMP:20260423T205757
CREATED:20250929T135953Z
LAST-MODIFIED:20260421T182707Z
UID:10057298-1778490000-1778515200@www.lesecologycenter.org
SUMMARY:Grand and Clinton
DESCRIPTION:Bring your food scraps to the NYC Compost Project’s morning commuter drop-off location at Grand and Clinton Street. For more information\, please visit our composting page.
URL:https://www.lesecologycenter.org/calendar/grand-and-clinton-2-2/2026-05-11/
LOCATION:Grand & Clinton\, New York\, NY\, 10002\, United States
CATEGORIES:Compost Drop-Off,Grand & Clinton
ATTACH;FMTTYPE=image/jpeg:https://www.lesecologycenter.org/wp-content/uploads/tribe_events/mathews-palmer-park/Compost-Site-Featured-Image.jpg
GEO:40.715881;-73.986773
END:VEVENT
BEGIN:VEVENT
DTSTART;TZID=America/New_York:20260518T090000
DTEND;TZID=America/New_York:20260518T160000
DTSTAMP:20260423T205757
CREATED:20250929T135953Z
LAST-MODIFIED:20260421T182707Z
UID:10057299-1779094800-1779120000@www.lesecologycenter.org
SUMMARY:Grand and Clinton
DESCRIPTION:Bring your food scraps to the NYC Compost Project’s morning commuter drop-off location at Grand and Clinton Street. For more information\, please visit our composting page.
URL:https://www.lesecologycenter.org/calendar/grand-and-clinton-2-2/2026-05-18/
LOCATION:Grand & Clinton\, New York\, NY\, 10002\, United States
CATEGORIES:Compost Drop-Off,Grand & Clinton
ATTACH;FMTTYPE=image/jpeg:https://www.lesecologycenter.org/wp-content/uploads/tribe_events/mathews-palmer-park/Compost-Site-Featured-Image.jpg
GEO:40.715881;-73.986773
END:VEVENT
BEGIN:VEVENT
DTSTART;TZID=America/New_York:20260601T090000
DTEND;TZID=America/New_York:20260601T160000
DTSTAMP:20260423T205757
CREATED:20250929T135953Z
LAST-MODIFIED:20260421T182707Z
UID:10057301-1780304400-1780329600@www.lesecologycenter.org
SUMMARY:Grand and Clinton
DESCRIPTION:Bring your food scraps to the NYC Compost Project’s morning commuter drop-off location at Grand and Clinton Street. For more information\, please visit our composting page.
URL:https://www.lesecologycenter.org/calendar/grand-and-clinton-2-2/2026-06-01/
LOCATION:Grand & Clinton\, New York\, NY\, 10002\, United States
CATEGORIES:Compost Drop-Off,Grand & Clinton
ATTACH;FMTTYPE=image/jpeg:https://www.lesecologycenter.org/wp-content/uploads/tribe_events/mathews-palmer-park/Compost-Site-Featured-Image.jpg
GEO:40.715881;-73.986773
END:VEVENT
BEGIN:VEVENT
DTSTART;TZID=America/New_York:20260608T090000
DTEND;TZID=America/New_York:20260608T160000
DTSTAMP:20260423T205757
CREATED:20250929T135953Z
LAST-MODIFIED:20260421T182707Z
UID:10057302-1780909200-1780934400@www.lesecologycenter.org
SUMMARY:Grand and Clinton
DESCRIPTION:Bring your food scraps to the NYC Compost Project’s morning commuter drop-off location at Grand and Clinton Street. For more information\, please visit our composting page.
URL:https://www.lesecologycenter.org/calendar/grand-and-clinton-2-2/2026-06-08/
LOCATION:Grand & Clinton\, New York\, NY\, 10002\, United States
CATEGORIES:Compost Drop-Off,Grand & Clinton
ATTACH;FMTTYPE=image/jpeg:https://www.lesecologycenter.org/wp-content/uploads/tribe_events/mathews-palmer-park/Compost-Site-Featured-Image.jpg
GEO:40.715881;-73.986773
END:VEVENT
BEGIN:VEVENT
DTSTART;TZID=America/New_York:20260615T090000
DTEND;TZID=America/New_York:20260615T160000
DTSTAMP:20260423T205757
CREATED:20250929T135953Z
LAST-MODIFIED:20260421T182707Z
UID:10057303-1781514000-1781539200@www.lesecologycenter.org
SUMMARY:Grand and Clinton
DESCRIPTION:Bring your food scraps to the NYC Compost Project’s morning commuter drop-off location at Grand and Clinton Street. For more information\, please visit our composting page.
URL:https://www.lesecologycenter.org/calendar/grand-and-clinton-2-2/2026-06-15/
LOCATION:Grand & Clinton\, New York\, NY\, 10002\, United States
CATEGORIES:Compost Drop-Off,Grand & Clinton
ATTACH;FMTTYPE=image/jpeg:https://www.lesecologycenter.org/wp-content/uploads/tribe_events/mathews-palmer-park/Compost-Site-Featured-Image.jpg
GEO:40.715881;-73.986773
END:VEVENT
BEGIN:VEVENT
DTSTART;TZID=America/New_York:20260622T090000
DTEND;TZID=America/New_York:20260622T160000
DTSTAMP:20260423T205757
CREATED:20250929T135953Z
LAST-MODIFIED:20260421T182707Z
UID:10057304-1782118800-1782144000@www.lesecologycenter.org
SUMMARY:Grand and Clinton
DESCRIPTION:Bring your food scraps to the NYC Compost Project’s morning commuter drop-off location at Grand and Clinton Street. For more information\, please visit our composting page.
URL:https://www.lesecologycenter.org/calendar/grand-and-clinton-2-2/2026-06-22/
LOCATION:Grand & Clinton\, New York\, NY\, 10002\, United States
CATEGORIES:Compost Drop-Off,Grand & Clinton
ATTACH;FMTTYPE=image/jpeg:https://www.lesecologycenter.org/wp-content/uploads/tribe_events/mathews-palmer-park/Compost-Site-Featured-Image.jpg
GEO:40.715881;-73.986773
END:VEVENT
BEGIN:VEVENT
DTSTART;TZID=America/New_York:20260629T090000
DTEND;TZID=America/New_York:20260629T160000
DTSTAMP:20260423T205757
CREATED:20250929T135953Z
LAST-MODIFIED:20260421T182707Z
UID:10057305-1782723600-1782748800@www.lesecologycenter.org
SUMMARY:Grand and Clinton
DESCRIPTION:Bring your food scraps to the NYC Compost Project’s morning commuter drop-off location at Grand and Clinton Street. For more information\, please visit our composting page.
URL:https://www.lesecologycenter.org/calendar/grand-and-clinton-2-2/2026-06-29/
LOCATION:Grand & Clinton\, New York\, NY\, 10002\, United States
CATEGORIES:Compost Drop-Off,Grand & Clinton
ATTACH;FMTTYPE=image/jpeg:https://www.lesecologycenter.org/wp-content/uploads/tribe_events/mathews-palmer-park/Compost-Site-Featured-Image.jpg
GEO:40.715881;-73.986773
END:VEVENT
BEGIN:VEVENT
DTSTART;TZID=America/New_York:20260706T090000
DTEND;TZID=America/New_York:20260706T160000
DTSTAMP:20260423T205757
CREATED:20250929T135953Z
LAST-MODIFIED:20260421T182707Z
UID:10057306-1783328400-1783353600@www.lesecologycenter.org
SUMMARY:Grand and Clinton
DESCRIPTION:Bring your food scraps to the NYC Compost Project’s morning commuter drop-off location at Grand and Clinton Street. For more information\, please visit our composting page.
URL:https://www.lesecologycenter.org/calendar/grand-and-clinton-2-2/2026-07-06/
LOCATION:Grand & Clinton\, New York\, NY\, 10002\, United States
CATEGORIES:Compost Drop-Off,Grand & Clinton
ATTACH;FMTTYPE=image/jpeg:https://www.lesecologycenter.org/wp-content/uploads/tribe_events/mathews-palmer-park/Compost-Site-Featured-Image.jpg
GEO:40.715881;-73.986773
END:VEVENT
BEGIN:VEVENT
DTSTART;TZID=America/New_York:20260713T090000
DTEND;TZID=America/New_York:20260713T160000
DTSTAMP:20260423T205757
CREATED:20250929T135953Z
LAST-MODIFIED:20260421T182707Z
UID:10057307-1783933200-1783958400@www.lesecologycenter.org
SUMMARY:Grand and Clinton
DESCRIPTION:Bring your food scraps to the NYC Compost Project’s morning commuter drop-off location at Grand and Clinton Street. For more information\, please visit our composting page.
URL:https://www.lesecologycenter.org/calendar/grand-and-clinton-2-2/2026-07-13/
LOCATION:Grand & Clinton\, New York\, NY\, 10002\, United States
CATEGORIES:Compost Drop-Off,Grand & Clinton
ATTACH;FMTTYPE=image/jpeg:https://www.lesecologycenter.org/wp-content/uploads/tribe_events/mathews-palmer-park/Compost-Site-Featured-Image.jpg
GEO:40.715881;-73.986773
END:VEVENT
BEGIN:VEVENT
DTSTART;TZID=America/New_York:20260720T090000
DTEND;TZID=America/New_York:20260720T160000
DTSTAMP:20260423T205757
CREATED:20250929T135953Z
LAST-MODIFIED:20260421T182707Z
UID:10057308-1784538000-1784563200@www.lesecologycenter.org
SUMMARY:Grand and Clinton
DESCRIPTION:Bring your food scraps to the NYC Compost Project’s morning commuter drop-off location at Grand and Clinton Street. For more information\, please visit our composting page.
URL:https://www.lesecologycenter.org/calendar/grand-and-clinton-2-2/2026-07-20/
LOCATION:Grand & Clinton\, New York\, NY\, 10002\, United States
CATEGORIES:Compost Drop-Off,Grand & Clinton
ATTACH;FMTTYPE=image/jpeg:https://www.lesecologycenter.org/wp-content/uploads/tribe_events/mathews-palmer-park/Compost-Site-Featured-Image.jpg
GEO:40.715881;-73.986773
END:VEVENT
BEGIN:VEVENT
DTSTART;TZID=America/New_York:20260727T090000
DTEND;TZID=America/New_York:20260727T160000
DTSTAMP:20260423T205757
CREATED:20250929T135953Z
LAST-MODIFIED:20260421T182707Z
UID:10057309-1785142800-1785168000@www.lesecologycenter.org
SUMMARY:Grand and Clinton
DESCRIPTION:Bring your food scraps to the NYC Compost Project’s morning commuter drop-off location at Grand and Clinton Street. For more information\, please visit our composting page.
URL:https://www.lesecologycenter.org/calendar/grand-and-clinton-2-2/2026-07-27/
LOCATION:Grand & Clinton\, New York\, NY\, 10002\, United States
CATEGORIES:Compost Drop-Off,Grand & Clinton
ATTACH;FMTTYPE=image/jpeg:https://www.lesecologycenter.org/wp-content/uploads/tribe_events/mathews-palmer-park/Compost-Site-Featured-Image.jpg
GEO:40.715881;-73.986773
END:VEVENT
BEGIN:VEVENT
DTSTART;TZID=America/New_York:20260803T090000
DTEND;TZID=America/New_York:20260803T160000
DTSTAMP:20260423T205757
CREATED:20250929T135953Z
LAST-MODIFIED:20260421T182707Z
UID:10057310-1785747600-1785772800@www.lesecologycenter.org
SUMMARY:Grand and Clinton
DESCRIPTION:Bring your food scraps to the NYC Compost Project’s morning commuter drop-off location at Grand and Clinton Street. For more information\, please visit our composting page.
URL:https://www.lesecologycenter.org/calendar/grand-and-clinton-2-2/2026-08-03/
LOCATION:Grand & Clinton\, New York\, NY\, 10002\, United States
CATEGORIES:Compost Drop-Off,Grand & Clinton
ATTACH;FMTTYPE=image/jpeg:https://www.lesecologycenter.org/wp-content/uploads/tribe_events/mathews-palmer-park/Compost-Site-Featured-Image.jpg
GEO:40.715881;-73.986773
END:VEVENT
BEGIN:VEVENT
DTSTART;TZID=America/New_York:20260810T090000
DTEND;TZID=America/New_York:20260810T160000
DTSTAMP:20260423T205757
CREATED:20250929T135953Z
LAST-MODIFIED:20260421T182707Z
UID:10057311-1786352400-1786377600@www.lesecologycenter.org
SUMMARY:Grand and Clinton
DESCRIPTION:Bring your food scraps to the NYC Compost Project’s morning commuter drop-off location at Grand and Clinton Street. For more information\, please visit our composting page.
URL:https://www.lesecologycenter.org/calendar/grand-and-clinton-2-2/2026-08-10/
LOCATION:Grand & Clinton\, New York\, NY\, 10002\, United States
CATEGORIES:Compost Drop-Off,Grand & Clinton
ATTACH;FMTTYPE=image/jpeg:https://www.lesecologycenter.org/wp-content/uploads/tribe_events/mathews-palmer-park/Compost-Site-Featured-Image.jpg
GEO:40.715881;-73.986773
END:VEVENT
BEGIN:VEVENT
DTSTART;TZID=America/New_York:20260817T090000
DTEND;TZID=America/New_York:20260817T160000
DTSTAMP:20260423T205757
CREATED:20250929T135953Z
LAST-MODIFIED:20260421T182707Z
UID:10057312-1786957200-1786982400@www.lesecologycenter.org
SUMMARY:Grand and Clinton
DESCRIPTION:Bring your food scraps to the NYC Compost Project’s morning commuter drop-off location at Grand and Clinton Street. For more information\, please visit our composting page.
URL:https://www.lesecologycenter.org/calendar/grand-and-clinton-2-2/2026-08-17/
LOCATION:Grand & Clinton\, New York\, NY\, 10002\, United States
CATEGORIES:Compost Drop-Off,Grand & Clinton
ATTACH;FMTTYPE=image/jpeg:https://www.lesecologycenter.org/wp-content/uploads/tribe_events/mathews-palmer-park/Compost-Site-Featured-Image.jpg
GEO:40.715881;-73.986773
END:VEVENT
BEGIN:VEVENT
DTSTART;TZID=America/New_York:20260824T090000
DTEND;TZID=America/New_York:20260824T160000
DTSTAMP:20260423T205757
CREATED:20250929T135953Z
LAST-MODIFIED:20260421T182707Z
UID:10057313-1787562000-1787587200@www.lesecologycenter.org
SUMMARY:Grand and Clinton
DESCRIPTION:Bring your food scraps to the NYC Compost Project’s morning commuter drop-off location at Grand and Clinton Street. For more information\, please visit our composting page.
URL:https://www.lesecologycenter.org/calendar/grand-and-clinton-2-2/2026-08-24/
LOCATION:Grand & Clinton\, New York\, NY\, 10002\, United States
CATEGORIES:Compost Drop-Off,Grand & Clinton
ATTACH;FMTTYPE=image/jpeg:https://www.lesecologycenter.org/wp-content/uploads/tribe_events/mathews-palmer-park/Compost-Site-Featured-Image.jpg
GEO:40.715881;-73.986773
END:VEVENT
BEGIN:VEVENT
DTSTART;TZID=America/New_York:20260831T090000
DTEND;TZID=America/New_York:20260831T160000
DTSTAMP:20260423T205757
CREATED:20250929T135953Z
LAST-MODIFIED:20260421T182707Z
UID:10057314-1788166800-1788192000@www.lesecologycenter.org
SUMMARY:Grand and Clinton
DESCRIPTION:Bring your food scraps to the NYC Compost Project’s morning commuter drop-off location at Grand and Clinton Street. For more information\, please visit our composting page.
URL:https://www.lesecologycenter.org/calendar/grand-and-clinton-2-2/2026-08-31/
LOCATION:Grand & Clinton\, New York\, NY\, 10002\, United States
CATEGORIES:Compost Drop-Off,Grand & Clinton
ATTACH;FMTTYPE=image/jpeg:https://www.lesecologycenter.org/wp-content/uploads/tribe_events/mathews-palmer-park/Compost-Site-Featured-Image.jpg
GEO:40.715881;-73.986773
END:VEVENT
BEGIN:VEVENT
DTSTART;TZID=America/New_York:20260907T090000
DTEND;TZID=America/New_York:20260907T160000
DTSTAMP:20260423T205757
CREATED:20250929T135953Z
LAST-MODIFIED:20260421T182707Z
UID:10057315-1788771600-1788796800@www.lesecologycenter.org
SUMMARY:Grand and Clinton
DESCRIPTION:Bring your food scraps to the NYC Compost Project’s morning commuter drop-off location at Grand and Clinton Street. For more information\, please visit our composting page.
URL:https://www.lesecologycenter.org/calendar/grand-and-clinton-2-2/2026-09-07/
LOCATION:Grand & Clinton\, New York\, NY\, 10002\, United States
CATEGORIES:Compost Drop-Off,Grand & Clinton
ATTACH;FMTTYPE=image/jpeg:https://www.lesecologycenter.org/wp-content/uploads/tribe_events/mathews-palmer-park/Compost-Site-Featured-Image.jpg
GEO:40.715881;-73.986773
END:VEVENT
BEGIN:VEVENT
DTSTART;TZID=America/New_York:20260914T090000
DTEND;TZID=America/New_York:20260914T160000
DTSTAMP:20260423T205757
CREATED:20250929T135953Z
LAST-MODIFIED:20260421T182707Z
UID:10057316-1789376400-1789401600@www.lesecologycenter.org
SUMMARY:Grand and Clinton
DESCRIPTION:Bring your food scraps to the NYC Compost Project’s morning commuter drop-off location at Grand and Clinton Street. For more information\, please visit our composting page.
URL:https://www.lesecologycenter.org/calendar/grand-and-clinton-2-2/2026-09-14/
LOCATION:Grand & Clinton\, New York\, NY\, 10002\, United States
CATEGORIES:Compost Drop-Off,Grand & Clinton
ATTACH;FMTTYPE=image/jpeg:https://www.lesecologycenter.org/wp-content/uploads/tribe_events/mathews-palmer-park/Compost-Site-Featured-Image.jpg
GEO:40.715881;-73.986773
END:VEVENT
BEGIN:VEVENT
DTSTART;TZID=America/New_York:20260921T090000
DTEND;TZID=America/New_York:20260921T160000
DTSTAMP:20260423T205758
CREATED:20250929T135953Z
LAST-MODIFIED:20260421T182707Z
UID:10057317-1789981200-1790006400@www.lesecologycenter.org
SUMMARY:Grand and Clinton
DESCRIPTION:Bring your food scraps to the NYC Compost Project’s morning commuter drop-off location at Grand and Clinton Street. For more information\, please visit our composting page.
URL:https://www.lesecologycenter.org/calendar/grand-and-clinton-2-2/2026-09-21/
LOCATION:Grand & Clinton\, New York\, NY\, 10002\, United States
CATEGORIES:Compost Drop-Off,Grand & Clinton
ATTACH;FMTTYPE=image/jpeg:https://www.lesecologycenter.org/wp-content/uploads/tribe_events/mathews-palmer-park/Compost-Site-Featured-Image.jpg
GEO:40.715881;-73.986773
END:VEVENT
BEGIN:VEVENT
DTSTART;TZID=America/New_York:20260928T090000
DTEND;TZID=America/New_York:20260928T160000
DTSTAMP:20260423T205758
CREATED:20250929T135953Z
LAST-MODIFIED:20260421T182707Z
UID:10057318-1790586000-1790611200@www.lesecologycenter.org
SUMMARY:Grand and Clinton
DESCRIPTION:Bring your food scraps to the NYC Compost Project’s morning commuter drop-off location at Grand and Clinton Street. For more information\, please visit our composting page.
URL:https://www.lesecologycenter.org/calendar/grand-and-clinton-2-2/2026-09-28/
LOCATION:Grand & Clinton\, New York\, NY\, 10002\, United States
CATEGORIES:Compost Drop-Off,Grand & Clinton
ATTACH;FMTTYPE=image/jpeg:https://www.lesecologycenter.org/wp-content/uploads/tribe_events/mathews-palmer-park/Compost-Site-Featured-Image.jpg
GEO:40.715881;-73.986773
END:VEVENT
BEGIN:VEVENT
DTSTART;TZID=America/New_York:20261005T090000
DTEND;TZID=America/New_York:20261005T160000
DTSTAMP:20260423T205758
CREATED:20250929T135953Z
LAST-MODIFIED:20260421T182707Z
UID:10057319-1791190800-1791216000@www.lesecologycenter.org
SUMMARY:Grand and Clinton
DESCRIPTION:Bring your food scraps to the NYC Compost Project’s morning commuter drop-off location at Grand and Clinton Street. For more information\, please visit our composting page.
URL:https://www.lesecologycenter.org/calendar/grand-and-clinton-2-2/2026-10-05/
LOCATION:Grand & Clinton\, New York\, NY\, 10002\, United States
CATEGORIES:Compost Drop-Off,Grand & Clinton
ATTACH;FMTTYPE=image/jpeg:https://www.lesecologycenter.org/wp-content/uploads/tribe_events/mathews-palmer-park/Compost-Site-Featured-Image.jpg
GEO:40.715881;-73.986773
END:VEVENT
BEGIN:VEVENT
DTSTART;TZID=America/New_York:20261012T090000
DTEND;TZID=America/New_York:20261012T160000
DTSTAMP:20260423T205758
CREATED:20250929T135953Z
LAST-MODIFIED:20260421T182707Z
UID:10057320-1791795600-1791820800@www.lesecologycenter.org
SUMMARY:Grand and Clinton
DESCRIPTION:Bring your food scraps to the NYC Compost Project’s morning commuter drop-off location at Grand and Clinton Street. For more information\, please visit our composting page.
URL:https://www.lesecologycenter.org/calendar/grand-and-clinton-2-2/2026-10-12/
LOCATION:Grand & Clinton\, New York\, NY\, 10002\, United States
CATEGORIES:Compost Drop-Off,Grand & Clinton
ATTACH;FMTTYPE=image/jpeg:https://www.lesecologycenter.org/wp-content/uploads/tribe_events/mathews-palmer-park/Compost-Site-Featured-Image.jpg
GEO:40.715881;-73.986773
END:VEVENT
BEGIN:VEVENT
DTSTART;TZID=America/New_York:20261019T090000
DTEND;TZID=America/New_York:20261019T160000
DTSTAMP:20260423T205758
CREATED:20250929T135953Z
LAST-MODIFIED:20260421T182707Z
UID:10057321-1792400400-1792425600@www.lesecologycenter.org
SUMMARY:Grand and Clinton
DESCRIPTION:Bring your food scraps to the NYC Compost Project’s morning commuter drop-off location at Grand and Clinton Street. For more information\, please visit our composting page.
URL:https://www.lesecologycenter.org/calendar/grand-and-clinton-2-2/2026-10-19/
LOCATION:Grand & Clinton\, New York\, NY\, 10002\, United States
CATEGORIES:Compost Drop-Off,Grand & Clinton
ATTACH;FMTTYPE=image/jpeg:https://www.lesecologycenter.org/wp-content/uploads/tribe_events/mathews-palmer-park/Compost-Site-Featured-Image.jpg
GEO:40.715881;-73.986773
END:VEVENT
BEGIN:VEVENT
DTSTART;TZID=America/New_York:20261026T090000
DTEND;TZID=America/New_York:20261026T160000
DTSTAMP:20260423T205758
CREATED:20250929T135953Z
LAST-MODIFIED:20260421T182707Z
UID:10057322-1793005200-1793030400@www.lesecologycenter.org
SUMMARY:Grand and Clinton
DESCRIPTION:Bring your food scraps to the NYC Compost Project’s morning commuter drop-off location at Grand and Clinton Street. For more information\, please visit our composting page.
URL:https://www.lesecologycenter.org/calendar/grand-and-clinton-2-2/2026-10-26/
LOCATION:Grand & Clinton\, New York\, NY\, 10002\, United States
CATEGORIES:Compost Drop-Off,Grand & Clinton
ATTACH;FMTTYPE=image/jpeg:https://www.lesecologycenter.org/wp-content/uploads/tribe_events/mathews-palmer-park/Compost-Site-Featured-Image.jpg
GEO:40.715881;-73.986773
END:VEVENT
BEGIN:VEVENT
DTSTART;TZID=America/New_York:20261102T090000
DTEND;TZID=America/New_York:20261102T160000
DTSTAMP:20260423T205758
CREATED:20250929T135953Z
LAST-MODIFIED:20260421T182707Z
UID:10057323-1793610000-1793635200@www.lesecologycenter.org
SUMMARY:Grand and Clinton
DESCRIPTION:Bring your food scraps to the NYC Compost Project’s morning commuter drop-off location at Grand and Clinton Street. For more information\, please visit our composting page.
URL:https://www.lesecologycenter.org/calendar/grand-and-clinton-2-2/2026-11-02/
LOCATION:Grand & Clinton\, New York\, NY\, 10002\, United States
CATEGORIES:Compost Drop-Off,Grand & Clinton
ATTACH;FMTTYPE=image/jpeg:https://www.lesecologycenter.org/wp-content/uploads/tribe_events/mathews-palmer-park/Compost-Site-Featured-Image.jpg
GEO:40.715881;-73.986773
END:VEVENT
BEGIN:VEVENT
DTSTART;TZID=America/New_York:20261109T090000
DTEND;TZID=America/New_York:20261109T160000
DTSTAMP:20260423T205758
CREATED:20250929T135953Z
LAST-MODIFIED:20260421T182707Z
UID:10057324-1794214800-1794240000@www.lesecologycenter.org
SUMMARY:Grand and Clinton
DESCRIPTION:Bring your food scraps to the NYC Compost Project’s morning commuter drop-off location at Grand and Clinton Street. For more information\, please visit our composting page.
URL:https://www.lesecologycenter.org/calendar/grand-and-clinton-2-2/2026-11-09/
LOCATION:Grand & Clinton\, New York\, NY\, 10002\, United States
CATEGORIES:Compost Drop-Off,Grand & Clinton
ATTACH;FMTTYPE=image/jpeg:https://www.lesecologycenter.org/wp-content/uploads/tribe_events/mathews-palmer-park/Compost-Site-Featured-Image.jpg
GEO:40.715881;-73.986773
END:VEVENT
BEGIN:VEVENT
DTSTART;TZID=America/New_York:20261116T090000
DTEND;TZID=America/New_York:20261116T160000
DTSTAMP:20260423T205758
CREATED:20250929T135953Z
LAST-MODIFIED:20260421T182707Z
UID:10057325-1794819600-1794844800@www.lesecologycenter.org
SUMMARY:Grand and Clinton
DESCRIPTION:Bring your food scraps to the NYC Compost Project’s morning commuter drop-off location at Grand and Clinton Street. For more information\, please visit our composting page.
URL:https://www.lesecologycenter.org/calendar/grand-and-clinton-2-2/2026-11-16/
LOCATION:Grand & Clinton\, New York\, NY\, 10002\, United States
CATEGORIES:Compost Drop-Off,Grand & Clinton
ATTACH;FMTTYPE=image/jpeg:https://www.lesecologycenter.org/wp-content/uploads/tribe_events/mathews-palmer-park/Compost-Site-Featured-Image.jpg
GEO:40.715881;-73.986773
END:VEVENT
BEGIN:VEVENT
DTSTART;TZID=America/New_York:20261123T090000
DTEND;TZID=America/New_York:20261123T160000
DTSTAMP:20260423T205758
CREATED:20250929T135953Z
LAST-MODIFIED:20260421T182707Z
UID:10057326-1795424400-1795449600@www.lesecologycenter.org
SUMMARY:Grand and Clinton
DESCRIPTION:Bring your food scraps to the NYC Compost Project’s morning commuter drop-off location at Grand and Clinton Street. For more information\, please visit our composting page.
URL:https://www.lesecologycenter.org/calendar/grand-and-clinton-2-2/2026-11-23/
LOCATION:Grand & Clinton\, New York\, NY\, 10002\, United States
CATEGORIES:Compost Drop-Off,Grand & Clinton
ATTACH;FMTTYPE=image/jpeg:https://www.lesecologycenter.org/wp-content/uploads/tribe_events/mathews-palmer-park/Compost-Site-Featured-Image.jpg
GEO:40.715881;-73.986773
END:VEVENT
END:VCALENDAR