BEGIN:VCALENDAR
VERSION:2.0
PRODID:-//LES Ecology Center - ECPv6.15.20//NONSGML v1.0//EN
CALSCALE:GREGORIAN
METHOD:PUBLISH
X-WR-CALNAME:LES Ecology Center
X-ORIGINAL-URL:https://www.lesecologycenter.org
X-WR-CALDESC:Events for LES Ecology Center
REFRESH-INTERVAL;VALUE=DURATION:PT1H
X-Robots-Tag:noindex
X-PUBLISHED-TTL:PT1H
BEGIN:VTIMEZONE
TZID:America/New_York
BEGIN:DAYLIGHT
TZOFFSETFROM:-0500
TZOFFSETTO:-0400
TZNAME:EDT
DTSTART:20250309T070000
END:DAYLIGHT
BEGIN:STANDARD
TZOFFSETFROM:-0400
TZOFFSETTO:-0500
TZNAME:EST
DTSTART:20251102T060000
END:STANDARD
BEGIN:DAYLIGHT
TZOFFSETFROM:-0500
TZOFFSETTO:-0400
TZNAME:EDT
DTSTART:20260308T070000
END:DAYLIGHT
BEGIN:STANDARD
TZOFFSETFROM:-0400
TZOFFSETTO:-0500
TZNAME:EST
DTSTART:20261101T060000
END:STANDARD
BEGIN:DAYLIGHT
TZOFFSETFROM:-0500
TZOFFSETTO:-0400
TZNAME:EDT
DTSTART:20270314T070000
END:DAYLIGHT
BEGIN:STANDARD
TZOFFSETFROM:-0400
TZOFFSETTO:-0500
TZNAME:EST
DTSTART:20271107T060000
END:STANDARD
END:VTIMEZONE
BEGIN:VEVENT
DTSTART;TZID=America/New_York:20260317T180000
DTEND;TZID=America/New_York:20260317T190000
DTSTAMP:20260424T131319
CREATED:20260224T183236Z
LAST-MODIFIED:20260224T191612Z
UID:51858-1773770400-1773774000@www.lesecologycenter.org
SUMMARY:Coolest Block in the Lower East Side 2026 Contest Kick-Off!
DESCRIPTION:Join the Lower East Side Ecology Center to kick off the beginning of the 2nd year of the Coolest Block in the Lower East Side Contest\, a community-based competition promoting street tree care in the Lower East Side. Come meet other neighborhood tree lovers\, learn more about our contest\, ask your questions\, and make a street tree sign to take home while supplies last! \nSign up here \nMore information about our 2025 & 2026 contest here. \n 
URL:https://www.lesecologycenter.org/calendar/coolest-block-in-the-lower-east-side-2026-contest-kick-off/
LOCATION:Center for Well Being and Happiness\, 101 Avenue D\, New York\, NY\, 10009\, United States
CATEGORIES:Public Events & Community Recycling,Public Program,Stewardship
ATTACH;FMTTYPE=image/png:https://www.lesecologycenter.org/wp-content/uploads/tribe_events/coolest-block-in-the-lower-east-side-2026-contest-kick-off/STC-Award-Ceremony.png
GEO:40.7234481;-73.9765083
X-APPLE-STRUCTURED-LOCATION;VALUE=URI;X-ADDRESS=Center for Well Being and Happiness 101 Avenue D New York NY 10009 United States;X-APPLE-RADIUS=500;X-TITLE=101 Avenue D:geo:-73.9765083,40.7234481
END:VEVENT
END:VCALENDAR