BEGIN:VCALENDAR
VERSION:2.0
PRODID:-//LES Ecology Center - ECPv6.15.20//NONSGML v1.0//EN
CALSCALE:GREGORIAN
METHOD:PUBLISH
X-WR-CALNAME:LES Ecology Center
X-ORIGINAL-URL:https://www.lesecologycenter.org
X-WR-CALDESC:Events for LES Ecology Center
REFRESH-INTERVAL;VALUE=DURATION:PT1H
X-Robots-Tag:noindex
X-PUBLISHED-TTL:PT1H
BEGIN:VTIMEZONE
TZID:America/New_York
BEGIN:DAYLIGHT
TZOFFSETFROM:-0500
TZOFFSETTO:-0400
TZNAME:EDT
DTSTART:20250309T070000
END:DAYLIGHT
BEGIN:STANDARD
TZOFFSETFROM:-0400
TZOFFSETTO:-0500
TZNAME:EST
DTSTART:20251102T060000
END:STANDARD
BEGIN:DAYLIGHT
TZOFFSETFROM:-0500
TZOFFSETTO:-0400
TZNAME:EDT
DTSTART:20260308T070000
END:DAYLIGHT
BEGIN:STANDARD
TZOFFSETFROM:-0400
TZOFFSETTO:-0500
TZNAME:EST
DTSTART:20261101T060000
END:STANDARD
BEGIN:DAYLIGHT
TZOFFSETFROM:-0500
TZOFFSETTO:-0400
TZNAME:EDT
DTSTART:20270314T070000
END:DAYLIGHT
BEGIN:STANDARD
TZOFFSETFROM:-0400
TZOFFSETTO:-0500
TZNAME:EST
DTSTART:20271107T060000
END:STANDARD
END:VTIMEZONE
BEGIN:VEVENT
DTSTART;TZID=America/New_York:20260430T100000
DTEND;TZID=America/New_York:20260430T120000
DTSTAMP:20260424T113054
CREATED:20260408T151650Z
LAST-MODIFIED:20260414T205813Z
UID:52752-1777543200-1777550400@www.lesecologycenter.org
SUMMARY:Street Tree Canopy Care Volunteer Day
DESCRIPTION:Join us in caring for our urban forest canopy in the LES! Trees clean our air\, cool our streets\, mitigate flooding\, and much more!\n\nSign up \n 
URL:https://www.lesecologycenter.org/calendar/street-tree-canopy-care-volunteer-day-2/
LOCATION:Seward Park\, Canal St and\, Essex St\,\, New York\, NY\, 10002\, United States
CATEGORIES:Public Events & Community Recycling,Stewardship
ATTACH;FMTTYPE=image/jpeg:https://www.lesecologycenter.org/wp-content/uploads/tribe_events//STC-Canopy-Featured-Image.jpg
GEO:40.7144072;-73.9902307
X-APPLE-STRUCTURED-LOCATION;VALUE=URI;X-ADDRESS=Seward Park Canal St and Essex St New York NY 10002 United States;X-APPLE-RADIUS=500;X-TITLE=Canal St and\, Essex St\,:geo:-73.9902307,40.7144072
END:VEVENT
END:VCALENDAR